BEGIN:VCALENDAR
VERSION:2.0
PRODID:-//Diabetes Ireland - ECPv6.15.12.2//NONSGML v1.0//EN
CALSCALE:GREGORIAN
METHOD:PUBLISH
X-WR-CALNAME:Diabetes Ireland
X-ORIGINAL-URL:https://www.diabetes.ie
X-WR-CALDESC:Events for Diabetes Ireland
REFRESH-INTERVAL;VALUE=DURATION:PT1H
X-Robots-Tag:noindex
X-PUBLISHED-TTL:PT1H
BEGIN:VTIMEZONE
TZID:UTC
BEGIN:STANDARD
TZOFFSETFROM:+0000
TZOFFSETTO:+0000
TZNAME:UTC
DTSTART:20250101T000000
END:STANDARD
END:VTIMEZONE
BEGIN:VEVENT
DTSTART;TZID=UTC:20260424T000000
DTEND;TZID=UTC:20260426T000000
DTSTAMP:20260421T161758
CREATED:20260408T134144Z
LAST-MODIFIED:20260408T134144Z
UID:34396-1776988800-1777161600@www.diabetes.ie
SUMMARY:Donegal Branch Family Weekend
DESCRIPTION:REGISTER HERE
URL:https://www.diabetes.ie/event/donegal-branch-family-weekend-2/
ATTACH;FMTTYPE=image/jpeg:https://www.diabetes.ie/wp-content/uploads/2026/04/Final-One-Donegal-weekend-scaled.jpg
END:VEVENT
END:VCALENDAR