BEGIN:VCALENDAR
VERSION:2.0
PRODID:-//Diabetes Ireland - ECPv6.15.12.2//NONSGML v1.0//EN
CALSCALE:GREGORIAN
METHOD:PUBLISH
X-ORIGINAL-URL:https://www.diabetes.ie
X-WR-CALDESC:Events for Diabetes Ireland
REFRESH-INTERVAL;VALUE=DURATION:PT1H
X-Robots-Tag:noindex
X-PUBLISHED-TTL:PT1H
BEGIN:VTIMEZONE
TZID:UTC
BEGIN:STANDARD
TZOFFSETFROM:+0000
TZOFFSETTO:+0000
TZNAME:UTC
DTSTART:20180101T000000
END:STANDARD
END:VTIMEZONE
BEGIN:VEVENT
DTSTART;TZID=UTC:20190204T104500
DTEND;TZID=UTC:20190204T130000
DTSTAMP:20260421T175326
CREATED:20190114T100845Z
LAST-MODIFIED:20190130T123733Z
UID:24900-1549277100-1549285200@www.diabetes.ie
SUMMARY:Code Athy Type 2
DESCRIPTION:  \nThe dates for the code sessions are as follows: \nStart Date – Monday 4th February 2019 – 10:45am – 1:00pm \n2nd Week: Monday 11th February 2019 – 10:45am – 1:00pm \n3rd Week: Monday 18th February 2019 – 10:45am – 12:45pm \nAt 6 Months: Monday 16th September 2019 – 10:45am – 12:45pm \nAny queries\, please contact info@diabetes.ie or telephone 01 8428118 and ask to speak to Sheila.
URL:https://www.diabetes.ie/event/code-athy-type-2/
END:VEVENT
BEGIN:VEVENT
DTSTART;TZID=UTC:20190212T110000
DTEND;TZID=UTC:20190212T130000
DTSTAMP:20260421T175326
CREATED:20180724T102502Z
LAST-MODIFIED:20190130T123850Z
UID:24057-1549969200-1549976400@www.diabetes.ie
SUMMARY:Code Ardee  Type 2
DESCRIPTION:Diabetes Ireland will hold a free CODE course for people living with Type 2 diabetes. \nThe course will be held in Room 3 in the Ardee Business Park\, Ardee Co Louth \nStart date: \nWorkshop 1:                      Tuesday 21st August \nWorkshop 2:                      Tuesday 28th August \nWorkshop 3:                      Tuesday 4th September \nWorkshop 4:                      Tuesday 12th February 2019 \n  \nPlease call 01 842 8118 to register as spaces are limited
URL:https://www.diabetes.ie/event/free-type-2-educational-course/
LOCATION:Ardee Business Park\, Ardee\, Co Louth
END:VEVENT
BEGIN:VEVENT
DTSTART;TZID=UTC:20190213T104500
DTEND;TZID=UTC:20190213T130000
DTSTAMP:20260421T175326
CREATED:20190114T105052Z
LAST-MODIFIED:20190130T124028Z
UID:24906-1550054700-1550062800@www.diabetes.ie
SUMMARY:Code Greystones Type 2
DESCRIPTION:The dates for the code sessions are as follows: \nStart Date – Wednesday 13th February 2019 – 10:45am – 1:00pm \n2nd Week – Wednesday 20th February 2019 – 10:45am – 12:45pm \n3rd Week – Wednesday 27th February 2019 – 10:45am – 12:45pm \nAt 6 Months – Wednesday 11th September – 10:45am – 12:45pm \nAny queries\, please contact info@diabetes.ie or telephone 01 8428118 and ask to speak to Sheila.
URL:https://www.diabetes.ie/event/code-greystones-type-2/
END:VEVENT
BEGIN:VEVENT
DTSTART;TZID=UTC:20190213T190000
DTEND;TZID=UTC:20190213T210000
DTSTAMP:20260421T175326
CREATED:20190116T131117Z
LAST-MODIFIED:20190130T124210Z
UID:24934-1550084400-1550091600@www.diabetes.ie
SUMMARY:Castlebar Co. Mayo Type 2 Diabetes Roundtable Workshop
DESCRIPTION:Ask the Experts about Your Diabetes \nHave you ever wanted to sit face to face with the diabetes experts outside of a hospital setting to learn more about your condition? Diabetes Ireland is delighted to offer you this opportunity. We have gathered four experts from a variety of fields in the area of Type 2 diabetes to answer YOUR questions. The meeting is being held in Castlebar\, Co. Mayo on Wednesday 13th February  @  7 pm – 9 pm. \nOn the night\, each expert will give a 5 minute introduction on their topic. Following this\, you and fellow attendees will be divided into small groups (no more than 12) at a round discussion table. Our experts will move from table to table in rotation for a 15 minute Question & Answer sessions. This allows for easy conversation and a chance to ask them questions about your diabetes\, or just to listen in. \n  \n The experts and their topics are: \nConsultant Endocrinologist: Dr Brosnan –  “Medical management of Diabetes”  \nCommunity Diabetes Dietitian: Ms Dearbhla O Hanlon – “Latest Dietary Guidelines for managing Diabetes” \nAdvanced Nurse Practitioner in Diabetes –  Ms Corena Campbell – “Understanding your numbers; why blood pressure\, cholesterol and glucose levels are so important”  \nSenior Podiatrist: Mr Conor Cahill – “Tips for Self-Management of your feet’ \n  \nTo avail of this invaluable opportunity\, register today  by telephoning Regina at the Western Regional Office of Diabetes Ireland on 071-9146001or email wro@diabetes.ie \nPlease note that we have a maximum of 48 places for each meeting so register today and do not miss out. \nFinally\, we would like to take this opportunity to thank you once again for your continuing support of Diabetes Ireland. We look forward to seeing you on the night. \n\n+ GOOGLE CALENDAR+ ICAL EXPORT
URL:https://www.diabetes.ie/event/castlebar-co-mayo-type-2-diabetes-roundtable-workshop/
LOCATION:Breaffy House Hotel\, Castlebar\, Co Mayo\, F23R253\, Ireland
ORGANIZER;CN="Clair Naughton":MAILTO:clair.naughton@diabetes.ie
END:VEVENT
BEGIN:VEVENT
DTSTART;TZID=UTC:20190218T110000
DTEND;TZID=UTC:20190218T133000
DTSTAMP:20260421T175326
CREATED:20190204T121011Z
LAST-MODIFIED:20190206T154737Z
UID:25019-1550487600-1550496600@www.diabetes.ie
SUMMARY:Code Carrickmacross - Type 2 Education Course
DESCRIPTION:Diabetes Ireland is holding a free CODE education course for people living with Type 2 diabetes. \nThe aim of the course is to help you manage your diabetes and it will cover topics such as diabetes knowledge and management\, food and activity and self-monitoring of diabetes control. \n  \nThe course will be run by: Sinead Powell\, Dietitian and Development Officer at Diabetes Ireland \nEach session will be 2 hours long and includes tea/ coffee break. There is no cost involved in attending this course. Group numbers are limited to 16 so early booking is essential. \nThe course will be held in the Carrickmacross Workhouse\, Shercock Road\, Carrickmacross\, Co. Monaghan –  \nStart date: \nWorkshop 1:                      Monday 18th – 11am – 1:30pm \nWorkshop 2:                      Monday 25th February – 11am – 1:00pm \nWorkshop 3:                      Monday 4th February – 11am – 1:00pm \nWorkshop 4:                      Tuesday 27th February – 11am – 1:00pm \n  \nFor further information\, please contact Sheila on 01 8428118 or email info@diabetes.ie \n  \n 
URL:https://www.diabetes.ie/event/code-carrickmacross-type-2/
END:VEVENT
BEGIN:VEVENT
DTSTART;TZID=UTC:20190219T103000
DTEND;TZID=UTC:20190219T123000
DTSTAMP:20260421T175326
CREATED:20190129T114934Z
LAST-MODIFIED:20190129T194402Z
UID:24979-1550572200-1550579400@www.diabetes.ie
SUMMARY:Focus Group for people with Type 2 Diabetes
DESCRIPTION:Help us improve Type 2 Diabetes Services\n  \nOn Tuesday the 19th of February\, we will be hosting a focus group for people living with Type 2 diabetes. The group is also open to those who are caring for someone living with Type 2 diabetes. \nThe session will involve a general conversation between participants about your day to day life with diabetes\, the support you receive and how we can help improve services to further help people living with diabetes. \nThe focus group will be held in the Diabetes Ireland Care Centre based in Santry\, Dublin from 10:30am- 12:30pm. All participants will receive a €50 gift voucher for our Care Centre services. Also\, all travel costs will be reimbursed. \nIf you want to take part\, please ring us on 01-8428118 or email Gillian at gillian.reynolds@diabetes.ie to register your interest. All those interested must be available on the above date and time.
URL:https://www.diabetes.ie/event/type-2-focus-group/
LOCATION:Diabetes Ireland Care Centre\, 19 Northwood House\, Northwood Business Campus\, Santry\, Ireland
ORGANIZER;CN="Diabetes Ireland":MAILTO:gillian.reynolds@diabetes.ie
END:VEVENT
BEGIN:VEVENT
DTSTART;TZID=UTC:20190219T200000
DTEND;TZID=UTC:20190219T220000
DTSTAMP:20260421T175326
CREATED:20190128T120844Z
LAST-MODIFIED:20190128T120844Z
UID:24969-1550606400-1550613600@www.diabetes.ie
SUMMARY:Type 1 Diabetes Meetup- Clare
DESCRIPTION:The next meeting of the Clare Adults with Type 1 Diabetes Group takes on Tuesday 19th February at 8pm in the Temple Gate Hotel\, Ennis. \n  \nThis meeting is free and open to anyone who is interested in learning more about Type 1 diabetes. These meet ups are a great opportunity to get to know others\, and newcomers are always welcome! \n  \nIf you want more information about the support group\, call Grainne on 0876548320 or email claresupport@diabetes.ie. \n  \nThe Clare Type 1 Diabetes group meets every second month. If you want more information about future meetings\, us the above contact information. \n  \n 
URL:https://www.diabetes.ie/event/type-1-diabetes-meetup-clare/
LOCATION:Temple Gate Hotel\, Ennis\, Co. Clare
ORGANIZER;CN="Grainne Flynn":MAILTO:clarebranchdfi@gmail.com
END:VEVENT
BEGIN:VEVENT
DTSTART;TZID=UTC:20190222T090000
DTEND;TZID=UTC:20190222T160000
DTSTAMP:20260421T175326
CREATED:20181015T143327Z
LAST-MODIFIED:20190221T143304Z
UID:24409-1550826000-1550851200@www.diabetes.ie
SUMMARY:Diabetes Ireland Conference & Exhibition (DICE) 2019
DESCRIPTION:  \n \n\n\nCredits:\nDiabetes Ireland has been awarded for Category 1 approval for 7 CEU Credits from An Bord Altranais and 5 CME Credits with the Royal College of Physicians in Ireland \n** This Conference is for Medical Professionals Only**\n  \n  \n\n\n\n\n\n	TimeMezzanine SuiteNally Suite Davin Suite\n\n\n\n\n	9:00amChair: Dr. Ronan Canavan\nWelcome and \nOpening RemarksChair: Dr. Sharleen O'Reilly\nWelcome and \nOpening RemarksChair: Ms. Kathleen Crerand\nWelcome and \nOpening Remarks\n\n\n\n	9:10amProf. Mike Lean Glasgow\nDiRECT Study: Reversal of Type 2 Diabetes\, where are we now?Prof. Fidelma Dunne Galway\nGestational Diabetes: Implications for Pregnancy and BeyondMs. Katarzyna Gajewska Dublin\nUpdate and Availability of Insulin Pumps for Adults with Type1 Diabetes in Ireland: Do we meet expectations?\n\n\n	9:50amProf. Maeve Durkan Cork\nBlood Pressure Management and its Challenges in Type 1 Dr. Michael Higgins\nThe Genomic Basis of Diabetes: A Nationwide Study in Ireland Dr. Neil Black Derry\nHow we as a team can help motivate our Patients with Diabetes\n\n\n	10:30amCoffee BreakCoffee BreakCoffee Break\n\n\n	11:00amProf. Frances Game Derby\nRenal Disease and the Diabetic FootMs. Alison Barnes Newcastle \nThe Practical Aspects of Implementation of a DiRECT Dietary Intervention in a Routine Care SettingProf. Molly Byrne  Galway\nPrevention of Type 2 Diabetes in Ireland: Taking Stock and Moving Forward\n\n\n	11:40amDr. Tomas Ahern Drogheda\nUpdate on DKA and HHS\, Covering Incidence\, what to look out for\, Treatment and Future ManagementMs. Sarah Keogh Dublin\nCoeliac Disease and Diabetes: What are we Missing? Dr. Joe Gallagher Wexford\nDiabetes Medications and Adherence Challenges\n\n\n	12:20pmProf. Mike Lean Glasglow & Ms. Alison Barnes Newcastle\nDiRECT Study: Current Research and how it might translate to an Irish PopulationProf. Catherine McHugh Sligo\nErectile Dysfunction and Diabetes: Issues and SolutionsProf. Maeve Durkan Cork\nBlood Pressure Management and its Challenges in Type 2\n\n\n	1:00pmLunchLunchLunch\n\n\n	Chair: Dr. Ronan CanavanChair: Ms. Kelly HenniganChair: Ms. Lisa Comiskey\n\n\n	2:00pmProf. Seán Dinneen Galway\nDiabetes Services UpdateDr. Susan Connolly Western Trust\nStatins and its ControversiesProf. Frances Game Derby\nThe World of the Charcot Foot\n\n\n	2:40pmProf. Fidelma Dunne  Galway\nThe Importance of Pre-Pregnancy Care for Women with Type 1 DiabetesMs. Claire Pesterfield UK\nDetection Dogs and their place in today’s Diabetes ManagementMs. Helen Strapp\nCavity Wounds - Addressing & Dressing\n\n\n	3:20pmDr. Anna Clarke\nDiabetes Ireland\nEntitlements: Relevant to People with DiabetesMs. Katarzyna Gajewska Dublin\nLiving with Type 1 Diabetes\, Yesterday\, Today and in the Future: A Patient PerspectiveMs. Pauline Wilson Dublin \nFlow Matters - PAD from a Multidisciplinary Approach\n\n\n	4:00pmClosing \nRemarks Closing \nRemarks Closing\n Remarks\n\n\n\n\n	\n\n\n\nConference Programme 2019\nPlease note that the speaker schedule may be subject to change\n\n  \n\n\nIf you have any further queries\, please contact Events & Marketing:\nEmail: tess.clinch@diabetes.ie      \nContact Number:  01 8428118  \n\n                                              \n*** Registrations now closed  ***\n  \n\n  \n 
URL:https://www.diabetes.ie/event/diabetes-ireland-conference-exhibition-dice-2019/
LOCATION:Croke Park Confernce Centre Dublin 3\, Dublin\, Ireland
ORGANIZER;CN="Diabetes Ireland":MAILTO:info@diabetes.ie
END:VEVENT
BEGIN:VEVENT
DTSTART;TZID=UTC:20190226T110000
DTEND;TZID=UTC:20190226T133000
DTSTAMP:20260421T175326
CREATED:20190204T121321Z
LAST-MODIFIED:20190206T112725Z
UID:25020-1551178800-1551187800@www.diabetes.ie
SUMMARY:Code Ardee - Type 2 Education Course
DESCRIPTION:Diabetes Ireland are holding  a free CODE education course for people living with Type 2 diabetes. \nThe aim of the course is to help you manage your diabetes and it will cover topics such as diabetes knowledge and management\, nutrition and activity and self-monitoring of your diabetes. \n  \nThe course will be run by: Sinead Powell\, Dietitian and Development Officer at Diabetes Ireland. \nEach session will be 2 hours long and includes tea/ coffee break. There is no cost involved in attending this course. Group numbers are limited to 16 so early booking is essential. \n  \nThe course will be held in the boardroom in the Ardee Business Park\, Ardee\, Co. Louth  – \nStart date: \nWorkshop 1:                      Tuesday 26th February – 11am – 1:30pm \nWorkshop 2:                      Tuesday 5th March – 11am – 1:30pm \nWorkshop 3:                      Tuesday 12th March – 11am – 1:00pm \nWorkshop 4:                      Tuesday 25th March – 11am – 1:00pm \n  \nIf you would like to attend this course\, please contact Sheila on 01 8428118 or email info@diabetes.ie \n  \n 
URL:https://www.diabetes.ie/event/code-ardee-type-2/
END:VEVENT
BEGIN:VEVENT
DTSTART;TZID=UTC:20190228T110000
DTEND;TZID=UTC:20190228T150000
DTSTAMP:20260421T175326
CREATED:20190226T094131Z
LAST-MODIFIED:20190226T094243Z
UID:25134-1551351600-1551366000@www.diabetes.ie
SUMMARY:Healthy Ireland at your Library – Ballinasloe Co Galway
DESCRIPTION:Pauline Dunne\, Senior Dietitian from Diabetes Ireland will be in attendance from 11am – 3pm to provide risk assessment and screening for T2 diabetes\, give information and answer your diabetes questions. \nIf you have any further queries\, please contact the Ballinasloe Library – 090 9643464.
URL:https://www.diabetes.ie/event/healthy-ireland-at-your-library-ballinasloe-co-galway/
LOCATION:Ballinasloe Library\, Ireland
END:VEVENT
BEGIN:VEVENT
DTSTART;TZID=UTC:20190228T193000
DTEND;TZID=UTC:20190228T213000
DTSTAMP:20260421T175326
CREATED:20190116T122048Z
LAST-MODIFIED:20190204T110826Z
UID:24931-1551382200-1551389400@www.diabetes.ie
SUMMARY:GALWAY Type 2 Diabetes Roundtable Workshop
DESCRIPTION:Ask the Experts about Your Diabetes  \n  \nHave you ever wanted to sit face to face with the diabetes experts outside of a hospital setting to learn more about your condition? Diabetes Ireland is delighted to offer you this opportunity. We have gathered four experts from a variety of fields in the area of Type 2 diabetes to answer YOUR   questions. The meeting is being held in Galway City on Thursday February 28th  7:30 – 9:30pm \nOn the night\, each expert will give a 5 minute introduction on their topic. Following this\, you and fellow attendees will be divided into small groups (no more than 12) at a round discussion table. Our experts will move from table to table in rotation for a 15 minute Question & Answer sessions. This allows for easy conversation and a chance to ask them questions about your diabetes\, or just to listen in. \n The experts and their topics are: \nConsultant Endocrinologist – Professor Sean Dinneen  –  “Medical Management of Diabetes \nSenor Dietitian – Ms. Ciara Heverin –  “Lastest Dietary Guidelines for Managing Diabetes”     \nDiabetes Nurse Specialist –  Ms. Brita Jordan –  “Understanding your Numbers; Why Blood Pressure\, Cholesterol and Glucose Levels are so Important” \nSenior Podiatrist – Ms Emma Hynes  –  “Tips for Self-Management of your Feet” \n  \nTo avail of this invaluable opportunity\, register today  by telephoning Regina at the Western Regional Office of Diabetes Ireland on 071-9146001 or email wro@diabetes.ie \nPlease note that we have a maximum of 48 places for each meeting so register today and do not miss out. \nFinally\, I would like to take this opportunity to thank you once again for your continuing support of Diabetes Ireland. We look forward to seeing you on the night.
URL:https://www.diabetes.ie/event/roscommon-type-2-diabetes-roundtable-workshop/
LOCATION:The Connacht Hotel\, Dublin Road\, Galway
END:VEVENT
END:VCALENDAR