BEGIN:VCALENDAR
VERSION:2.0
PRODID:-//Diabetes Ireland - ECPv6.15.12.2//NONSGML v1.0//EN
CALSCALE:GREGORIAN
METHOD:PUBLISH
X-ORIGINAL-URL:https://www.diabetes.ie
X-WR-CALDESC:Events for Diabetes Ireland
REFRESH-INTERVAL;VALUE=DURATION:PT1H
X-Robots-Tag:noindex
X-PUBLISHED-TTL:PT1H
BEGIN:VTIMEZONE
TZID:UTC
BEGIN:STANDARD
TZOFFSETFROM:+0000
TZOFFSETTO:+0000
TZNAME:UTC
DTSTART:20240101T000000
END:STANDARD
END:VTIMEZONE
BEGIN:VEVENT
DTSTART;TZID=UTC:20250921T130000
DTEND;TZID=UTC:20250921T150000
DTSTAMP:20260422T015801
CREATED:20250718T141833Z
LAST-MODIFIED:20250916T180415Z
UID:34187-1758459600-1758466800@www.diabetes.ie
SUMMARY:The 44th Echo Women's Mini Marathon 2025 Cork
DESCRIPTION:Run for a Reason – Support Diabetes Ireland! 💙 \nThe 44th Echo Women’s Mini Marathon is happening on Sunday\, September 21st\, 2025\, at 1 PM in Cork\, and we want YOU to join us on the starting line! \n  \n Distance: 6KM \nThis year\, we’re calling on runners\, joggers\, and walkers to take part in support of Diabetes Ireland. Every step you take helps us provide essential services\, education\, and support to thousands of people across Ireland living with diabetes. \nRun for someone you love. Run for change. Run with purpose. \nBy choosing Diabetes Ireland as your charity\, you’re directly helping families and individuals manage and live well with diabetes. \nRegister now here and select Diabetes Ireland as your chosen cause \nFor more info\, call us at 01 8428118 or email info@diabetes.ie \nLet’s run together to create a healthier future.
URL:https://www.diabetes.ie/event/the-44th-echo-womens-mini-marathon-2025-cork/
ATTACH;FMTTYPE=image/png:https://www.diabetes.ie/wp-content/uploads/2025/07/Cork-women-mini-marathon-1.png
END:VEVENT
END:VCALENDAR