BEGIN:VCALENDAR
VERSION:2.0
PRODID:-//Diabetes Ireland - ECPv6.15.12.2//NONSGML v1.0//EN
CALSCALE:GREGORIAN
METHOD:PUBLISH
X-ORIGINAL-URL:https://www.diabetes.ie
X-WR-CALDESC:Events for Diabetes Ireland
REFRESH-INTERVAL;VALUE=DURATION:PT1H
X-Robots-Tag:noindex
X-PUBLISHED-TTL:PT1H
BEGIN:VTIMEZONE
TZID:UTC
BEGIN:STANDARD
TZOFFSETFROM:+0000
TZOFFSETTO:+0000
TZNAME:UTC
DTSTART:20240101T000000
END:STANDARD
END:VTIMEZONE
BEGIN:VEVENT
DTSTART;TZID=UTC:20250219T100000
DTEND;TZID=UTC:20250219T210000
DTSTAMP:20260422T015629
CREATED:20250121T141750Z
LAST-MODIFIED:20250130T105553Z
UID:33855-1739959200-1739998800@www.diabetes.ie
SUMMARY:Unleash the Power of Your Words: Free Creative Writing Workshops for Children\, Teens\, and Adults with Type 1 Diabetes
DESCRIPTION:Diabetes Ireland\, in partnership with Abbott\, is delighted to present The Power of the Pen\, a unique series of free creative writing workshops for children\, teens\, and adults with Type 1 Diabetes. \n  \n \n  \nLed by the renowned spoken word poet Duke Al\, these workshops offer an inspiring opportunity to: \n\nDiscover your creative voice\nShare your personal story\nConnect with others who understand your journey\n\n📍 Location: Crowne Plaza Hotel\, Santry\, Dublin\n📅 Date: Wednesday\, February 19th \n  \nWorkshop Schedule:\n✨ 8–10 years: 10:00 am–11:00 am – Fun with poetry and expressing emotions about living with diabetes.\n✨ 10–13 years: 11:30 am–1:00 pm – Breaking barriers in poetry and exploring diabetes’ impact on sports.\n✨ 13–16 years: 2:30 pm–4:00 pm – Creating a visual “mask” for an invisible condition.\n✨ Adults: 6:30 pm–8:00 pm – Tackling and breaking the stigma surrounding diabetes. \n  \n🎟️ Spaces are limited—sign up today! \nReserve your spot here: \n\n8–10 years: The Power of the Pen Workshop\n10–13 years: The Power of the Pen Workshop\n13–16 years: The Power of the Pen Workshop\nAdults: The Power of the Pen Workshop\n\n  \nLet’s come together and turn words into a source of strength and inspiration! 🖋️
URL:https://www.diabetes.ie/event/unleash-the-power-of-your-words-free-creative-writing-workshops-for-children-teens-and-adults-with-type-1-diabetes/
LOCATION:Crowne Plaza Hotel Santry
ORGANIZER;CN="Diabetes Ireland":MAILTO:info@diabetes.ie
END:VEVENT
END:VCALENDAR