BEGIN:VCALENDAR
VERSION:2.0
PRODID:-//Diabetes Ireland - ECPv6.15.12.2//NONSGML v1.0//EN
CALSCALE:GREGORIAN
METHOD:PUBLISH
X-WR-CALNAME:Diabetes Ireland
X-ORIGINAL-URL:https://www.diabetes.ie
X-WR-CALDESC:Events for Diabetes Ireland
REFRESH-INTERVAL;VALUE=DURATION:PT1H
X-Robots-Tag:noindex
X-PUBLISHED-TTL:PT1H
BEGIN:VTIMEZONE
TZID:UTC
BEGIN:STANDARD
TZOFFSETFROM:+0000
TZOFFSETTO:+0000
TZNAME:UTC
DTSTART:20210101T000000
END:STANDARD
END:VTIMEZONE
BEGIN:VEVENT
DTSTART;TZID=UTC:20220429T103000
DTEND;TZID=UTC:20220429T120000
DTSTAMP:20260421T125148
CREATED:20220316T123832Z
LAST-MODIFIED:20220316T125954Z
UID:29446-1651228200-1651233600@www.diabetes.ie
SUMMARY:Health and Wellbeing Workshop for Adults living with Type 1 Diabetes (Online)
DESCRIPTION:Health and wellbeing workshop for adults living with type 1 diabetes North Dublin City and County 29th April 10.30 am to midday. \n  \nDetails TBC.
URL:https://www.diabetes.ie/event/health-and-wellbeing-workshop-for-adults-living-with-type-1-diabetes-north-dublin-city-an/
CATEGORIES:Munster,Ulster
ORGANIZER;CN="Diabetes Ireland":MAILTO:info@diabetes.ie
END:VEVENT
END:VCALENDAR