BEGIN:VCALENDAR
VERSION:2.0
PRODID:-//Diabetes Ireland - ECPv6.15.12.2//NONSGML v1.0//EN
CALSCALE:GREGORIAN
METHOD:PUBLISH
X-ORIGINAL-URL:https://www.diabetes.ie
X-WR-CALDESC:Events for Diabetes Ireland
REFRESH-INTERVAL;VALUE=DURATION:PT1H
X-Robots-Tag:noindex
X-PUBLISHED-TTL:PT1H
BEGIN:VTIMEZONE
TZID:UTC
BEGIN:STANDARD
TZOFFSETFROM:+0000
TZOFFSETTO:+0000
TZNAME:UTC
DTSTART:20200101T000000
END:STANDARD
END:VTIMEZONE
BEGIN:VEVENT
DTSTART;VALUE=DATE:20210604
DTEND;VALUE=DATE:20210608
DTSTAMP:20260423T161630
CREATED:20210330T145531Z
LAST-MODIFIED:20210330T145541Z
UID:28157-1622764800-1623110399@www.diabetes.ie
SUMMARY:Diabetes Ireland 10k June Weekend Challenge 2021
DESCRIPTION:
URL:https://www.diabetes.ie/event/diabetes-ireland-10k-june-weekend-challenge-2021/
ATTACH;FMTTYPE=image/jpeg:https://www.diabetes.ie/wp-content/uploads/2021/03/Diabetes-Ireland-10k-Weekend-Challenge-2021.jpg
ORGANIZER;CN="Diabetes Ireland":MAILTO:info@diabetes.ie
END:VEVENT
END:VCALENDAR