BEGIN:VCALENDAR
VERSION:2.0
PRODID:-//Diabetes Ireland - ECPv6.15.12.2//NONSGML v1.0//EN
CALSCALE:GREGORIAN
METHOD:PUBLISH
X-ORIGINAL-URL:https://www.diabetes.ie
X-WR-CALDESC:Events for Diabetes Ireland
REFRESH-INTERVAL;VALUE=DURATION:PT1H
X-Robots-Tag:noindex
X-PUBLISHED-TTL:PT1H
BEGIN:VTIMEZONE
TZID:UTC
BEGIN:STANDARD
TZOFFSETFROM:+0000
TZOFFSETTO:+0000
TZNAME:UTC
DTSTART:20180101T000000
END:STANDARD
END:VTIMEZONE
BEGIN:VEVENT
DTSTART;TZID=UTC:20190228T110000
DTEND;TZID=UTC:20190228T150000
DTSTAMP:20260421T174749
CREATED:20190226T094131Z
LAST-MODIFIED:20190226T094243Z
UID:25134-1551351600-1551366000@www.diabetes.ie
SUMMARY:Healthy Ireland at your Library – Ballinasloe Co Galway
DESCRIPTION:Pauline Dunne\, Senior Dietitian from Diabetes Ireland will be in attendance from 11am – 3pm to provide risk assessment and screening for T2 diabetes\, give information and answer your diabetes questions. \nIf you have any further queries\, please contact the Ballinasloe Library – 090 9643464.
URL:https://www.diabetes.ie/event/healthy-ireland-at-your-library-ballinasloe-co-galway/
LOCATION:Ballinasloe Library\, Ireland
END:VEVENT
BEGIN:VEVENT
DTSTART;TZID=UTC:20190228T193000
DTEND;TZID=UTC:20190228T213000
DTSTAMP:20260421T174750
CREATED:20190116T122048Z
LAST-MODIFIED:20190204T110826Z
UID:24931-1551382200-1551389400@www.diabetes.ie
SUMMARY:GALWAY Type 2 Diabetes Roundtable Workshop
DESCRIPTION:Ask the Experts about Your Diabetes  \n  \nHave you ever wanted to sit face to face with the diabetes experts outside of a hospital setting to learn more about your condition? Diabetes Ireland is delighted to offer you this opportunity. We have gathered four experts from a variety of fields in the area of Type 2 diabetes to answer YOUR   questions. The meeting is being held in Galway City on Thursday February 28th  7:30 – 9:30pm \nOn the night\, each expert will give a 5 minute introduction on their topic. Following this\, you and fellow attendees will be divided into small groups (no more than 12) at a round discussion table. Our experts will move from table to table in rotation for a 15 minute Question & Answer sessions. This allows for easy conversation and a chance to ask them questions about your diabetes\, or just to listen in. \n The experts and their topics are: \nConsultant Endocrinologist – Professor Sean Dinneen  –  “Medical Management of Diabetes \nSenor Dietitian – Ms. Ciara Heverin –  “Lastest Dietary Guidelines for Managing Diabetes”     \nDiabetes Nurse Specialist –  Ms. Brita Jordan –  “Understanding your Numbers; Why Blood Pressure\, Cholesterol and Glucose Levels are so Important” \nSenior Podiatrist – Ms Emma Hynes  –  “Tips for Self-Management of your Feet” \n  \nTo avail of this invaluable opportunity\, register today  by telephoning Regina at the Western Regional Office of Diabetes Ireland on 071-9146001 or email wro@diabetes.ie \nPlease note that we have a maximum of 48 places for each meeting so register today and do not miss out. \nFinally\, I would like to take this opportunity to thank you once again for your continuing support of Diabetes Ireland. We look forward to seeing you on the night.
URL:https://www.diabetes.ie/event/roscommon-type-2-diabetes-roundtable-workshop/
LOCATION:The Connacht Hotel\, Dublin Road\, Galway
END:VEVENT
END:VCALENDAR