BEGIN:VCALENDAR
VERSION:2.0
PRODID:-//Diabetes Ireland - ECPv6.15.12.2//NONSGML v1.0//EN
CALSCALE:GREGORIAN
METHOD:PUBLISH
X-WR-CALNAME:Diabetes Ireland
X-ORIGINAL-URL:https://www.diabetes.ie
X-WR-CALDESC:Events for Diabetes Ireland
REFRESH-INTERVAL;VALUE=DURATION:PT1H
X-Robots-Tag:noindex
X-PUBLISHED-TTL:PT1H
BEGIN:VTIMEZONE
TZID:UTC
BEGIN:STANDARD
TZOFFSETFROM:+0000
TZOFFSETTO:+0000
TZNAME:UTC
DTSTART:20180101T000000
END:STANDARD
END:VTIMEZONE
BEGIN:VEVENT
DTSTART;TZID=UTC:20190121T103000
DTEND;TZID=UTC:20190121T123000
DTSTAMP:20260421T162108
CREATED:20190114T110515Z
LAST-MODIFIED:20190130T123225Z
UID:24908-1548066600-1548073800@www.diabetes.ie
SUMMARY:Code Santry Type 2
DESCRIPTION:The dates for the code sessions are as follows: \nStart Date – Monday 21st January – 10:30am – 1:00pm \n2nd Week – Monday 28th January – 10:30am – 12:30pm \n3rd Week – Monday 4th February – 10:30am – 12:30pm \nAt 6 Months – Monday 13th May – 10:30am – 12:30pm \nAny queries\, please contact info@diabetes.ie or telephone 01 8428118 and ask to speak to Sheila.
URL:https://www.diabetes.ie/event/code-santry-type-2/
END:VEVENT
END:VCALENDAR