BEGIN:VCALENDAR
VERSION:2.0
PRODID:-//Diabetes Ireland - ECPv6.15.12.2//NONSGML v1.0//EN
CALSCALE:GREGORIAN
METHOD:PUBLISH
X-WR-CALNAME:Diabetes Ireland
X-ORIGINAL-URL:https://www.diabetes.ie
X-WR-CALDESC:Events for Diabetes Ireland
REFRESH-INTERVAL;VALUE=DURATION:PT1H
X-Robots-Tag:noindex
X-PUBLISHED-TTL:PT1H
BEGIN:VTIMEZONE
TZID:UTC
BEGIN:STANDARD
TZOFFSETFROM:+0000
TZOFFSETTO:+0000
TZNAME:UTC
DTSTART:20170101T000000
END:STANDARD
END:VTIMEZONE
BEGIN:VEVENT
DTSTART;TZID=UTC:20181129T104500
DTEND;TZID=UTC:20181129T130000
DTSTAMP:20260421T124736
CREATED:20181015T134952Z
LAST-MODIFIED:20181015T134952Z
UID:24406-1543488300-1543496400@www.diabetes.ie
SUMMARY:Clonroche Type 2 & Pre-diabetes Education Course (CODE)
DESCRIPTION:Structured education course for Pre-diabetes & Type 2 \nCODE is Diabetes Ireland’s group education programme for people with Type 2 Diabetes or diagnosed Pre-diabetes.  CODE aims to deliver general information about diabetes self-management in a local community group setting. CODE allows people with diabetes to talk in a supportive atmosphere about their own diabetes. Time is allocated during the programme for problem solving\, feedback on diabetes self-management behaviours and goal setting. \n  \nThe programme is facilitated by Diabetes Ireland\, Regional Development Officer Jenny Dunbar and consists of 4 sessions of 2 hours duration.  The first 3 sessions take place over 3 consecutive weeks. \n  \n  \nFinal Review Meeting \nThis review session takes place six months after the start date. \nCODE is free of charge. \nTopics covered in CODE include diabetes explained\, risk factors\, signs and symptoms\, healthy eating\, physical activity\, personal goal setting\, complications and the necessity of regular follow up and the importance of optimal diabetes control. The six month session looks at the review of achievements and personal goal setting. Our flexible approach allows the sessions to be tailored to meet the self-identified needs of each group. \nPre-booking is essential and all 4 sessions need attendance \nFor more information or to book another course call Marion/Charlotte on 021 4274229 or email info@diabetes.ie \n 
URL:https://www.diabetes.ie/event/clonroche-type-2-pre-diabetes-education-course-code/
END:VEVENT
BEGIN:VEVENT
DTSTART;TZID=UTC:20181129T140000
DTEND;TZID=UTC:20181129T160000
DTSTAMP:20260421T124736
CREATED:20180717T085958Z
LAST-MODIFIED:20180717T085958Z
UID:24016-1543500000-1543507200@www.diabetes.ie
SUMMARY:TUAM – Type 2 Diabetes & Pre Diabetes Education Course
DESCRIPTION:  \nWeek 4 \nThis course is now full. \nIf you are interested in a diabetes education course in this area\, please call Regina on 071 914 6001 to register for the next course.
URL:https://www.diabetes.ie/event/tuam-type-2-diabetes-pre-diabetes-education-course-4/
LOCATION:Corralea Court Hotel\,  The Square\, Tuam\, \, Galway\, Ireland
CATEGORIES:Connaught
END:VEVENT
END:VCALENDAR